BEGIN:VCALENDAR
VERSION:2.0
PRODID:-//Discover Holmes County Ohio - ECPv6.15.17.1//NONSGML v1.0//EN
CALSCALE:GREGORIAN
METHOD:PUBLISH
X-WR-CALNAME:Discover Holmes County Ohio
X-ORIGINAL-URL:https://www.discoverholmescounty.com
X-WR-CALDESC:Events for Discover Holmes County Ohio
REFRESH-INTERVAL;VALUE=DURATION:PT1H
X-Robots-Tag:noindex
X-PUBLISHED-TTL:PT1H
BEGIN:VTIMEZONE
TZID:America/New_York
BEGIN:DAYLIGHT
TZOFFSETFROM:-0500
TZOFFSETTO:-0400
TZNAME:EDT
DTSTART:20240310T070000
END:DAYLIGHT
BEGIN:STANDARD
TZOFFSETFROM:-0400
TZOFFSETTO:-0500
TZNAME:EST
DTSTART:20241103T060000
END:STANDARD
BEGIN:DAYLIGHT
TZOFFSETFROM:-0500
TZOFFSETTO:-0400
TZNAME:EDT
DTSTART:20250309T070000
END:DAYLIGHT
BEGIN:STANDARD
TZOFFSETFROM:-0400
TZOFFSETTO:-0500
TZNAME:EST
DTSTART:20251102T060000
END:STANDARD
BEGIN:DAYLIGHT
TZOFFSETFROM:-0500
TZOFFSETTO:-0400
TZNAME:EDT
DTSTART:20260308T070000
END:DAYLIGHT
BEGIN:STANDARD
TZOFFSETFROM:-0400
TZOFFSETTO:-0500
TZNAME:EST
DTSTART:20261101T060000
END:STANDARD
END:VTIMEZONE
BEGIN:VEVENT
DTSTART;TZID=America/New_York:20250809T080000
DTEND;TZID=America/New_York:20250809T210000
DTSTAMP:20260423T035108
CREATED:20250805T153012Z
LAST-MODIFIED:20251003T205128Z
UID:10000892-1754726400-1754773200@www.discoverholmescounty.com
SUMMARY:2025 Holmes County Fair
DESCRIPTION:The Holmes County Fair is one of the most family friendly and affordable entertainment experiences for people of all ages to enjoy. The 2025 fair will take place on August 4 through August 9. \nThe Holmes County Fair is unique\, as it’s one of the few remaining fairs without open exhibition livestock shows\, putting all the focus on our local 4H and FFA youth! We look forward to showcasing the youth of our county\, our local businesses\, and a delicious assortment of food sure to please the whole family! \nSee you at the fair!
URL:https://www.discoverholmescounty.com/event/holmes-county-fair/2025-08-09/
LOCATION:Harvest Ridge\, 8880 OH-39\, Millersburg\, OH\, 44654\, United States
ATTACH;FMTTYPE=image/png:https://www.discoverholmescounty.com/wp-content/uploads/2023/04/2023-Fair-Event-Cover.png
END:VEVENT
BEGIN:VEVENT
DTSTART;TZID=America/New_York:20250905T160000
DTEND;TZID=America/New_York:20250905T210000
DTSTAMP:20260423T035108
CREATED:20240111T163310Z
LAST-MODIFIED:20250805T163843Z
UID:10000840-1757088000-1757106000@www.discoverholmescounty.com
SUMMARY:Harvest Fest & Rib Cookoff
DESCRIPTION:An annual event in Berlin\, Ohio celebrating the harvest season with great food\, entertainment\, and more. The rib cookoff features many local favorites and includes food trucks as well. \nFriday\, September 5\, 2025 \n*Vendors open at noon \n*Live Music on the Square \n  1:30-4:30PM    \n  4:30-8:30PM  \n*Live Auction 7:00PM \n*Fireworks at dusk - approx. 8:45PM behind Sheiyah Market
URL:https://www.discoverholmescounty.com/event/harvest-fest-rib-cookoff/
LOCATION:Berlin\, Ohio\, Berlin\, OH\, 44614\, United States
CATEGORIES:Fall Events
ATTACH;FMTTYPE=image/jpeg:https://www.discoverholmescounty.com/wp-content/uploads/2024/01/Berlin-Rib-Cookoff.jpg
END:VEVENT
BEGIN:VEVENT
DTSTART;TZID=America/New_York:20250906T100000
DTEND;TZID=America/New_York:20250906T210000
DTSTAMP:20260423T035108
CREATED:20240111T163507Z
LAST-MODIFIED:20250805T164135Z
UID:10000841-1757152800-1757192400@www.discoverholmescounty.com
SUMMARY:Harvest Fest & Rib Cookoff
DESCRIPTION:An annual event in Berlin\, Ohio celebrating the harvest season with great food\, entertainment\, and more. The rib cookoff features many local favorites and includes food trucks as well. \nSaturday events\, September 6\, 2025 \n*Vendors open at 10:00AM  \n*Live Music on the Square  \n  1:00-3:30PM        \n  3:30-6:00PM  \n*Rib Judging 2:00PM \n*Rib winners announced at 4:00PM  \n     1st place $400 ~ 2nd place $300 ~   \n3rd place $200 ~ People's Choice $250 \n*Raffle drawing follows the Rib Cook-Off Rewards \n*Parade starts at 6:00PM \n*Event festivities will end after the parade
URL:https://www.discoverholmescounty.com/event/harvest-fest-rib-cookoff-2/
LOCATION:Berlin\, Ohio\, Berlin\, OH\, 44614\, United States
CATEGORIES:Fall Events
ATTACH;FMTTYPE=image/jpeg:https://www.discoverholmescounty.com/wp-content/uploads/2024/01/Berlin-Rib-Cookoff.jpg
END:VEVENT
BEGIN:VEVENT
DTSTART;TZID=America/New_York:20250919T160000
DTEND;TZID=America/New_York:20250919T213000
DTSTAMP:20260423T035108
CREATED:20240806T012116Z
LAST-MODIFIED:20251003T205024Z
UID:10001632-1758297600-1758317400@www.discoverholmescounty.com
SUMMARY:Winesburg Fall Gathering
DESCRIPTION:The Winesburg Annual Fall Gathering & Benefit Auction is celebrating its 31st anniversary this year! This year is special\, because the entire community will be celebrating the Quinquennial Winesburg Reunion. An expanded schedule includes our live auction\, a new raffle with great prizes\, food trucks\, a 5k run\, town history panels\, softball and pickleball tournaments\, live music\, and more.  This year’s event will take place September 19-21\, 2025. \nIf you are interested in running the 5k\, you can sign up here: https://runsignup.com/Race/OH/Dundee/GreatGrapeRace \nRaffle ticket purchases and donations support our community members in need. All proceeds go directly to local families. If you know of someone you would like to nominate to receive support\, please email Eli Wengerd at el*@*************ts.com. \n\n\n\n\n2025 Combined Schedule of Events\n\n\n\n\nFriday\, Sept. 19 \n\n1:00pm Mens Softball Tournament\n4:00-9:00pm Food Trucks\n4:00-10:00pm Pickleball Tournament (Call Kenny Kline: 330-473-7598)\n4:00-10:00pm Homemade Ice Cream & Carousel Popcorn\n4:30-5:30pm Kinsley House & Store Open (Memory Rooms – Main St)\n4:30-5:30pm Peter’s School Open (Heritage Park)\n6:00pm Homecoming Dinner\, Silent Auction & History Panel (Zion Fellowship Hall)\n\n\n6:00-9:30 Live Music:\n\nRhinestone\nCounty Line\n3rd band pending\n\n\n10:00pm Fireworks (sponsored by Mavin & Case Farms)\n\n  \nSaturday\, Sept. 20 \n\n8:00am 5k Great Grape Race sponsored by Case Farms and Whitmer’s\n8:00am-4:00pm Blacksmith Shop Open (Laurel Park)\n8:00am-8:00pm Food Trucks\n8:00am-9:00pm Mens Softball Tournament\n8:00am-9:00pm Pickleball Tournament*\n9:00am Historical Tours – Walk the Town (maps at Peter’s School)\n9:00am-11:00am Winesburg Gun Display (Kinsley House – Main St)\n9:00am-3:00pm Peter’s School Open (Heritage Park)\n9:00am-5:00pm Kinsley House & Store Open (Memory Rooms – Main St)\n9:00am-10:00pm Homemade Ice Cream & Carousel Popcorn\n10:00am Winesburg Historical Society Cake Walk (German Methodist Church)\n10:00am-3:00pm Historical Tours: Wagon Tour to Bear Cave (meet at Zion Church)\n11:00-11:45am Live Music – pending\, possibly Dave Keim\n12:00pm Fall Gathering Benefit Auction\n\n2:00pm Winesburg Reunion Quilt and Blanket Chest Auctioned Off\n\n\n3:00pm BBQ Chicken Dinner (Winesburg Fire Department)\n4:00pm Community Softball Game\n\n24 softballs will be sold at the auction Saturday afternoon\, and the game will be played after the auction ends.\n\n\n6:00pm Live Music: Low Gap\n8:00pm Raffle Drawing (need not be present to win)\n\n  \nSunday\, Sept. 21 \n\n10:30am Memorial Service (Zion Reformed Church)\n12:00pm Luncheon (Zion Fellowship Hall)\n2:00pm Parade (Main St)\n3:00pm Kinsley House & Store Open (Memory Rooms)
URL:https://www.discoverholmescounty.com/event/winesburg-fall-gathering/2025-09-19/
LOCATION:Winesburg\, Ohio\, Winesburg\, OH\, 44690\, United States
CATEGORIES:Auctions,Fall Events
ATTACH;FMTTYPE=image/png:https://www.discoverholmescounty.com/wp-content/uploads/2024/08/WO-Raffle-Ticket-2024-Social-10.png
END:VEVENT
BEGIN:VEVENT
DTSTART;TZID=America/New_York:20250920T100000
DTEND;TZID=America/New_York:20250920T160000
DTSTAMP:20260423T035108
CREATED:20250913T170432Z
LAST-MODIFIED:20250913T170432Z
UID:10001640-1758362400-1758384000@www.discoverholmescounty.com
SUMMARY:Holmes County Art Festival
DESCRIPTION:Visit Historic Downtown Millersburg for the Holmes County Art Festival! Taking place on Saturday\, September 20m\, this festival features regional and national artists\, live entertainment\, food trucks\, performances and more. This much anticipated event provides a wonderful opportunity for the community & festival attendees to celebrate the arts while providing artists with a platform to promote and sell their work.\n\nThe Ohio Plein Air Society will be returning to Downtown Millersburg once again\, painting throughout downtown Millersburg and Holmes County!
URL:https://www.discoverholmescounty.com/event/holmes-county-art-festival/
LOCATION:Millersburg\, Ohio\, Millersburg\, OH\, 44654\, United States
CATEGORIES:Arts,Fall Events
ATTACH;FMTTYPE=image/jpeg:https://www.discoverholmescounty.com/wp-content/uploads/2025/09/2025-Millersburg-Art-Festival.jpg
END:VEVENT
BEGIN:VEVENT
DTSTART;TZID=America/New_York:20250920T120000
DTEND;TZID=America/New_York:20250920T190000
DTSTAMP:20260423T035108
CREATED:20250916T002131Z
LAST-MODIFIED:20250916T002131Z
UID:10001649-1758369600-1758394800@www.discoverholmescounty.com
SUMMARY:Truck Parade of Lights
DESCRIPTION:The Parade of Lights and Truck Show will start at noon on Saturday\, Sept. 20 at the Holmes County Fairgrounds. \nThe Sept. 20 Parade of Lights will kick off with a gathering of trucks at Harvest Ridge at the fairgrounds in Millersburg\, where fans are invited to come in and view the big rigs. \nThe festivities at Harvest Ridge will go throughout the day with great food and fellowship\, culminating later that evening with a parade of trucks slowly making their way through the rolling hills of Berlin\, Mt. Hope and finally Kidron. \nThe parade will start between 6 and 6:30 PM and the route will be: \n\nStarting at Harvest Ridge/Holmes County Fairgrounds\, travel through the Village of Millersburg\, and continue along SR 39 → US 62 → CR 77 → SR 241 → Kidron Road\, ending at the Kidron Auction Grounds.\n\n\n\nPlease expect traffic delays along the route and plan accordingly.
URL:https://www.discoverholmescounty.com/event/truck-parade-of-lights/
LOCATION:Harvest Ridge\, 8880 OH-39\, Millersburg\, OH\, 44654\, United States
CATEGORIES:Fall Events
ATTACH;FMTTYPE=image/jpeg:https://www.discoverholmescounty.com/wp-content/uploads/2025/09/2025-Parade-of-Lights-Truck-Show.jpg
END:VEVENT
BEGIN:VEVENT
DTSTART;TZID=America/New_York:20250920T160000
DTEND;TZID=America/New_York:20250920T213000
DTSTAMP:20260423T035108
CREATED:20240806T012116Z
LAST-MODIFIED:20251003T205024Z
UID:10001633-1758384000-1758403800@www.discoverholmescounty.com
SUMMARY:Winesburg Fall Gathering
DESCRIPTION:The Winesburg Annual Fall Gathering & Benefit Auction is celebrating its 31st anniversary this year! This year is special\, because the entire community will be celebrating the Quinquennial Winesburg Reunion. An expanded schedule includes our live auction\, a new raffle with great prizes\, food trucks\, a 5k run\, town history panels\, softball and pickleball tournaments\, live music\, and more.  This year’s event will take place September 19-21\, 2025. \nIf you are interested in running the 5k\, you can sign up here: https://runsignup.com/Race/OH/Dundee/GreatGrapeRace \nRaffle ticket purchases and donations support our community members in need. All proceeds go directly to local families. If you know of someone you would like to nominate to receive support\, please email Eli Wengerd at el*@*************ts.com. \n\n\n\n\n2025 Combined Schedule of Events\n\n\n\n\nFriday\, Sept. 19 \n\n1:00pm Mens Softball Tournament\n4:00-9:00pm Food Trucks\n4:00-10:00pm Pickleball Tournament (Call Kenny Kline: 330-473-7598)\n4:00-10:00pm Homemade Ice Cream & Carousel Popcorn\n4:30-5:30pm Kinsley House & Store Open (Memory Rooms – Main St)\n4:30-5:30pm Peter’s School Open (Heritage Park)\n6:00pm Homecoming Dinner\, Silent Auction & History Panel (Zion Fellowship Hall)\n\n\n6:00-9:30 Live Music:\n\nRhinestone\nCounty Line\n3rd band pending\n\n\n10:00pm Fireworks (sponsored by Mavin & Case Farms)\n\n  \nSaturday\, Sept. 20 \n\n8:00am 5k Great Grape Race sponsored by Case Farms and Whitmer’s\n8:00am-4:00pm Blacksmith Shop Open (Laurel Park)\n8:00am-8:00pm Food Trucks\n8:00am-9:00pm Mens Softball Tournament\n8:00am-9:00pm Pickleball Tournament*\n9:00am Historical Tours – Walk the Town (maps at Peter’s School)\n9:00am-11:00am Winesburg Gun Display (Kinsley House – Main St)\n9:00am-3:00pm Peter’s School Open (Heritage Park)\n9:00am-5:00pm Kinsley House & Store Open (Memory Rooms – Main St)\n9:00am-10:00pm Homemade Ice Cream & Carousel Popcorn\n10:00am Winesburg Historical Society Cake Walk (German Methodist Church)\n10:00am-3:00pm Historical Tours: Wagon Tour to Bear Cave (meet at Zion Church)\n11:00-11:45am Live Music – pending\, possibly Dave Keim\n12:00pm Fall Gathering Benefit Auction\n\n2:00pm Winesburg Reunion Quilt and Blanket Chest Auctioned Off\n\n\n3:00pm BBQ Chicken Dinner (Winesburg Fire Department)\n4:00pm Community Softball Game\n\n24 softballs will be sold at the auction Saturday afternoon\, and the game will be played after the auction ends.\n\n\n6:00pm Live Music: Low Gap\n8:00pm Raffle Drawing (need not be present to win)\n\n  \nSunday\, Sept. 21 \n\n10:30am Memorial Service (Zion Reformed Church)\n12:00pm Luncheon (Zion Fellowship Hall)\n2:00pm Parade (Main St)\n3:00pm Kinsley House & Store Open (Memory Rooms)
URL:https://www.discoverholmescounty.com/event/winesburg-fall-gathering/2025-09-20/
LOCATION:Winesburg\, Ohio\, Winesburg\, OH\, 44690\, United States
CATEGORIES:Auctions,Fall Events
ATTACH;FMTTYPE=image/png:https://www.discoverholmescounty.com/wp-content/uploads/2024/08/WO-Raffle-Ticket-2024-Social-10.png
END:VEVENT
BEGIN:VEVENT
DTSTART;TZID=America/New_York:20250921T160000
DTEND;TZID=America/New_York:20250921T213000
DTSTAMP:20260423T035108
CREATED:20240806T012116Z
LAST-MODIFIED:20251003T205024Z
UID:10001634-1758470400-1758490200@www.discoverholmescounty.com
SUMMARY:Winesburg Fall Gathering
DESCRIPTION:The Winesburg Annual Fall Gathering & Benefit Auction is celebrating its 31st anniversary this year! This year is special\, because the entire community will be celebrating the Quinquennial Winesburg Reunion. An expanded schedule includes our live auction\, a new raffle with great prizes\, food trucks\, a 5k run\, town history panels\, softball and pickleball tournaments\, live music\, and more.  This year’s event will take place September 19-21\, 2025. \nIf you are interested in running the 5k\, you can sign up here: https://runsignup.com/Race/OH/Dundee/GreatGrapeRace \nRaffle ticket purchases and donations support our community members in need. All proceeds go directly to local families. If you know of someone you would like to nominate to receive support\, please email Eli Wengerd at el*@*************ts.com. \n\n\n\n\n2025 Combined Schedule of Events\n\n\n\n\nFriday\, Sept. 19 \n\n1:00pm Mens Softball Tournament\n4:00-9:00pm Food Trucks\n4:00-10:00pm Pickleball Tournament (Call Kenny Kline: 330-473-7598)\n4:00-10:00pm Homemade Ice Cream & Carousel Popcorn\n4:30-5:30pm Kinsley House & Store Open (Memory Rooms – Main St)\n4:30-5:30pm Peter’s School Open (Heritage Park)\n6:00pm Homecoming Dinner\, Silent Auction & History Panel (Zion Fellowship Hall)\n\n\n6:00-9:30 Live Music:\n\nRhinestone\nCounty Line\n3rd band pending\n\n\n10:00pm Fireworks (sponsored by Mavin & Case Farms)\n\n  \nSaturday\, Sept. 20 \n\n8:00am 5k Great Grape Race sponsored by Case Farms and Whitmer’s\n8:00am-4:00pm Blacksmith Shop Open (Laurel Park)\n8:00am-8:00pm Food Trucks\n8:00am-9:00pm Mens Softball Tournament\n8:00am-9:00pm Pickleball Tournament*\n9:00am Historical Tours – Walk the Town (maps at Peter’s School)\n9:00am-11:00am Winesburg Gun Display (Kinsley House – Main St)\n9:00am-3:00pm Peter’s School Open (Heritage Park)\n9:00am-5:00pm Kinsley House & Store Open (Memory Rooms – Main St)\n9:00am-10:00pm Homemade Ice Cream & Carousel Popcorn\n10:00am Winesburg Historical Society Cake Walk (German Methodist Church)\n10:00am-3:00pm Historical Tours: Wagon Tour to Bear Cave (meet at Zion Church)\n11:00-11:45am Live Music – pending\, possibly Dave Keim\n12:00pm Fall Gathering Benefit Auction\n\n2:00pm Winesburg Reunion Quilt and Blanket Chest Auctioned Off\n\n\n3:00pm BBQ Chicken Dinner (Winesburg Fire Department)\n4:00pm Community Softball Game\n\n24 softballs will be sold at the auction Saturday afternoon\, and the game will be played after the auction ends.\n\n\n6:00pm Live Music: Low Gap\n8:00pm Raffle Drawing (need not be present to win)\n\n  \nSunday\, Sept. 21 \n\n10:30am Memorial Service (Zion Reformed Church)\n12:00pm Luncheon (Zion Fellowship Hall)\n2:00pm Parade (Main St)\n3:00pm Kinsley House & Store Open (Memory Rooms)
URL:https://www.discoverholmescounty.com/event/winesburg-fall-gathering/2025-09-21/
LOCATION:Winesburg\, Ohio\, Winesburg\, OH\, 44690\, United States
CATEGORIES:Auctions,Fall Events
ATTACH;FMTTYPE=image/png:https://www.discoverholmescounty.com/wp-content/uploads/2024/08/WO-Raffle-Ticket-2024-Social-10.png
END:VEVENT
END:VCALENDAR