BEGIN:VCALENDAR
VERSION:2.0
PRODID:-//Discover Holmes County Ohio - ECPv6.15.17.1//NONSGML v1.0//EN
CALSCALE:GREGORIAN
METHOD:PUBLISH
X-WR-CALNAME:Discover Holmes County Ohio
X-ORIGINAL-URL:https://www.discoverholmescounty.com
X-WR-CALDESC:Events for Discover Holmes County Ohio
REFRESH-INTERVAL;VALUE=DURATION:PT1H
X-Robots-Tag:noindex
X-PUBLISHED-TTL:PT1H
BEGIN:VTIMEZONE
TZID:America/New_York
BEGIN:DAYLIGHT
TZOFFSETFROM:-0500
TZOFFSETTO:-0400
TZNAME:EDT
DTSTART:20240310T070000
END:DAYLIGHT
BEGIN:STANDARD
TZOFFSETFROM:-0400
TZOFFSETTO:-0500
TZNAME:EST
DTSTART:20241103T060000
END:STANDARD
BEGIN:DAYLIGHT
TZOFFSETFROM:-0500
TZOFFSETTO:-0400
TZNAME:EDT
DTSTART:20250309T070000
END:DAYLIGHT
BEGIN:STANDARD
TZOFFSETFROM:-0400
TZOFFSETTO:-0500
TZNAME:EST
DTSTART:20251102T060000
END:STANDARD
BEGIN:DAYLIGHT
TZOFFSETFROM:-0500
TZOFFSETTO:-0400
TZNAME:EDT
DTSTART:20260308T070000
END:DAYLIGHT
BEGIN:STANDARD
TZOFFSETFROM:-0400
TZOFFSETTO:-0500
TZNAME:EST
DTSTART:20261101T060000
END:STANDARD
END:VTIMEZONE
BEGIN:VEVENT
DTSTART;TZID=America/New_York:20251017T083000
DTEND;TZID=America/New_York:20251017T180000
DTSTAMP:20260425T104649
CREATED:20250805T161119Z
LAST-MODIFIED:20251030T124714Z
UID:10001629-1760689800-1760724000@www.discoverholmescounty.com
SUMMARY:Farm at Walnut Creek Fall Festival
DESCRIPTION:Fall is in the air! The animals at The Farm love this time of year which includes cooler weather and the Fall Festival! \nThis is the fourth weekend of our annual Fall Festival. \nThere are many enjoyable adventures to keep you busy! Take your chance at our famous pumpkin slingshot\, let your children play all afternoon in the giant corn box\, or watch our Percheron Draft Horses as they press sorghum cane stalks to make molasses. How high can you climb on our straw castle? Take a lunch break by enjoying barbecue chicken\, noodles and beans\, desserts\, and more. And don’t forget to take a peaceful\, cool\, horse-drawn wagon ride through the Farm to feed animals such as giraffes\, zebras\, bison\, and much more!
URL:https://www.discoverholmescounty.com/event/fall-festival-2-2-2/2025-10-17/
LOCATION:The Farm at Walnut Creek\, 4147 County Road 114 \, OH\, Sugarcreek\, OH\, 44681\, United States
CATEGORIES:Fall Events,Farm at Walnut Creek Events
ATTACH;FMTTYPE=image/jpeg:https://www.discoverholmescounty.com/wp-content/uploads/2023/10/Fall-Festival-Banner.jpg
END:VEVENT
BEGIN:VEVENT
DTSTART;TZID=America/New_York:20251017T160000
DTEND;TZID=America/New_York:20251017T210000
DTSTAMP:20260425T104649
CREATED:20240509T185205Z
LAST-MODIFIED:20251030T124749Z
UID:10000871-1760716800-1760734800@www.discoverholmescounty.com
SUMMARY:Fall Late Nights #2
DESCRIPTION:Visit Hershberger's Farm and Bakery for this 2nd and final special evening event of the fall harvest season. Kick off the fall harvest season with a wagon ride to the pumpkin patch where you can select your perfect pumpkin. The petting area\, bakery\, and farm store will be open until 9 pm and there will be other special offerings throughout the evening.
URL:https://www.discoverholmescounty.com/event/hershbergers-fall-late-nights-2024-2/
LOCATION:Hershberger's Farm and Bakery\, 5452 State Route 557\, Millersburg\, OH\, 44654\, United States
CATEGORIES:Fall Events,Hershberger's Events
ATTACH;FMTTYPE=image/jpeg:https://www.discoverholmescounty.com/wp-content/uploads/2024/05/2024-Fall-Late-Night-2.jpg
END:VEVENT
BEGIN:VEVENT
DTSTART;TZID=America/New_York:20251018T083000
DTEND;TZID=America/New_York:20251018T180000
DTSTAMP:20260425T104649
CREATED:20250805T161119Z
LAST-MODIFIED:20251030T124714Z
UID:10000879-1760776200-1760810400@www.discoverholmescounty.com
SUMMARY:Farm at Walnut Creek Fall Festival
DESCRIPTION:Fall is in the air! The animals at The Farm love this time of year which includes cooler weather and the Fall Festival! \nThis is the fourth weekend of our annual Fall Festival. \nThere are many enjoyable adventures to keep you busy! Take your chance at our famous pumpkin slingshot\, let your children play all afternoon in the giant corn box\, or watch our Percheron Draft Horses as they press sorghum cane stalks to make molasses. How high can you climb on our straw castle? Take a lunch break by enjoying barbecue chicken\, noodles and beans\, desserts\, and more. And don’t forget to take a peaceful\, cool\, horse-drawn wagon ride through the Farm to feed animals such as giraffes\, zebras\, bison\, and much more!
URL:https://www.discoverholmescounty.com/event/fall-festival-2-2-2/2025-10-18/
LOCATION:The Farm at Walnut Creek\, 4147 County Road 114 \, OH\, Sugarcreek\, OH\, 44681\, United States
CATEGORIES:Fall Events,Farm at Walnut Creek Events
ATTACH;FMTTYPE=image/jpeg:https://www.discoverholmescounty.com/wp-content/uploads/2023/10/Fall-Festival-Banner.jpg
END:VEVENT
BEGIN:VEVENT
DTSTART;TZID=America/New_York:20251024T083000
DTEND;TZID=America/New_York:20251024T180000
DTSTAMP:20260425T104649
CREATED:20250805T162021Z
LAST-MODIFIED:20250805T162105Z
UID:10000883-1761294600-1761328800@www.discoverholmescounty.com
SUMMARY:Farm at Walnut Creek Fall Festival
DESCRIPTION:Fall is in the air! The animals at The Farm love this time of year which includes cooler weather and the Fall Festival! \nThis is the final weekend of our annual Fall Festival. \nThere are many enjoyable adventures to keep you busy! Take your chance at our famous pumpkin slingshot\, let your children play all afternoon in the giant corn box\, or watch our Percheron Draft Horses as they press sorghum cane stalks to make molasses. How high can you climb on our straw castle? Take a lunch break by enjoying barbecue chicken\, noodles and beans\, desserts\, and more. And don’t forget to take a peaceful\, cool\, horse-drawn wagon ride through the Farm to feed animals such as giraffes\, zebras\, bison\, and much more!
URL:https://www.discoverholmescounty.com/event/farm-at-walnut-creek-fall-festival-2/2025-10-24/
LOCATION:The Farm at Walnut Creek\, 4147 County Road 114 \, OH\, Sugarcreek\, OH\, 44681\, United States
CATEGORIES:Fall Events,Farm at Walnut Creek Events
ATTACH;FMTTYPE=image/jpeg:https://www.discoverholmescounty.com/wp-content/uploads/2023/10/Fall-Festival-Banner.jpg
END:VEVENT
BEGIN:VEVENT
DTSTART;TZID=America/New_York:20251025T080000
DTEND;TZID=America/New_York:20251025T170000
DTSTAMP:20260425T104649
CREATED:20250913T181146Z
LAST-MODIFIED:20251030T124651Z
UID:10001646-1761379200-1761411600@www.discoverholmescounty.com
SUMMARY:Boo in the Burg
DESCRIPTION:Boo in the Burg is Downtown Millersburg’s annual Halloween-themed wine and beer tasting event. Taste different beverages from local wineries and breweries while enjoying live entertainment from Third Monkey Band. \nTickets include 5 tastings (beer or wine of your choice) and a ‘Boo in the Burg’ collector glass. Additional tasting tickets can be purchased at the event. \nPresale tickets are $30 each. Tickets at the door are $35. Sales close on 10/24/25 at 12:00 pm. \nBoo in the Burg is for ages 21+ only. Each attendee must purchase a ticket for entry. \nTickets can be purchased here: https://www.zeffy.com/en-US/ticketing/boo-in-the-burg–2025
URL:https://www.discoverholmescounty.com/event/boo-in-the-burg/
LOCATION:Millersburg\, Ohio\, Millersburg\, OH\, 44654\, United States
CATEGORIES:Fall Events
ATTACH;FMTTYPE=image/png:https://www.discoverholmescounty.com/wp-content/uploads/2025/09/BOO-IN-THE-BURG-4-600x222-1.png
END:VEVENT
BEGIN:VEVENT
DTSTART;TZID=America/New_York:20251025T083000
DTEND;TZID=America/New_York:20251025T180000
DTSTAMP:20260425T104649
CREATED:20250805T162021Z
LAST-MODIFIED:20250805T162105Z
UID:10001631-1761381000-1761415200@www.discoverholmescounty.com
SUMMARY:Farm at Walnut Creek Fall Festival
DESCRIPTION:Fall is in the air! The animals at The Farm love this time of year which includes cooler weather and the Fall Festival! \nThis is the final weekend of our annual Fall Festival. \nThere are many enjoyable adventures to keep you busy! Take your chance at our famous pumpkin slingshot\, let your children play all afternoon in the giant corn box\, or watch our Percheron Draft Horses as they press sorghum cane stalks to make molasses. How high can you climb on our straw castle? Take a lunch break by enjoying barbecue chicken\, noodles and beans\, desserts\, and more. And don’t forget to take a peaceful\, cool\, horse-drawn wagon ride through the Farm to feed animals such as giraffes\, zebras\, bison\, and much more!
URL:https://www.discoverholmescounty.com/event/farm-at-walnut-creek-fall-festival-2/2025-10-25/
LOCATION:The Farm at Walnut Creek\, 4147 County Road 114 \, OH\, Sugarcreek\, OH\, 44681\, United States
CATEGORIES:Fall Events,Farm at Walnut Creek Events
ATTACH;FMTTYPE=image/jpeg:https://www.discoverholmescounty.com/wp-content/uploads/2023/10/Fall-Festival-Banner.jpg
END:VEVENT
BEGIN:VEVENT
DTSTART;TZID=America/New_York:20251106T080000
DTEND;TZID=America/New_York:20251106T170000
DTSTAMP:20260425T104649
CREATED:20250805T170007Z
LAST-MODIFIED:20251109T182020Z
UID:10001636-1762416000-1762448400@www.discoverholmescounty.com
SUMMARY:Berlin - Christmas Open House
DESCRIPTION:Come enjoy 3 days of Christmas shopping discounts\, as Main Street Merchants transform their stores into a Christmas wonderland with gorgeous displays and sales! \nStore hours vary.
URL:https://www.discoverholmescounty.com/event/berlin-christmas-open-house/2025-11-06/
LOCATION:Berlin\, Ohio\, Berlin\, OH\, 44614\, United States
CATEGORIES:Christmas Open Houses
ATTACH;FMTTYPE=image/jpeg:https://www.discoverholmescounty.com/wp-content/uploads/2025/08/Berlin-xmas-open-house.jpeg
END:VEVENT
BEGIN:VEVENT
DTSTART;TZID=America/New_York:20251107T080000
DTEND;TZID=America/New_York:20251107T170000
DTSTAMP:20260425T104649
CREATED:20250805T170007Z
LAST-MODIFIED:20251109T182020Z
UID:10001637-1762502400-1762534800@www.discoverholmescounty.com
SUMMARY:Berlin - Christmas Open House
DESCRIPTION:Come enjoy 3 days of Christmas shopping discounts\, as Main Street Merchants transform their stores into a Christmas wonderland with gorgeous displays and sales! \nStore hours vary.
URL:https://www.discoverholmescounty.com/event/berlin-christmas-open-house/2025-11-07/
LOCATION:Berlin\, Ohio\, Berlin\, OH\, 44614\, United States
CATEGORIES:Christmas Open Houses
ATTACH;FMTTYPE=image/jpeg:https://www.discoverholmescounty.com/wp-content/uploads/2025/08/Berlin-xmas-open-house.jpeg
END:VEVENT
BEGIN:VEVENT
DTSTART;TZID=America/New_York:20251107T190000
DTEND;TZID=America/New_York:20251107T200000
DTSTAMP:20260425T104649
CREATED:20250913T181702Z
LAST-MODIFIED:20251109T182004Z
UID:10001647-1762542000-1762545600@www.discoverholmescounty.com
SUMMARY:Christmas in the Village
DESCRIPTION:A joyous community celebration on the square in Walnut Creek to welcome the Christmas Season. Christmas Devotional and Caroling led by a local church group. The annual Tree Lighting will be at 7:00 p.m. on Friday\, November 7\, 2025. \nThis is traditionally a weekend when many of the local shops hold their open houses\, with sales and discounts on Fall and Christmas items. Plan your visit to take in the many events! \n\nCandle Lighting and countdown to annual village Christmas Tree Lighting\nEast Holmes Fire Department truck on site\nRefreshments\nGoodie bags for children\nEnjoy Christmas Open Houses at businesses throughout the village.
URL:https://www.discoverholmescounty.com/event/christmas-in-the-village/
LOCATION:Walnut Creek\, Ohio\, Walnut Creek\, OH\, 44687\, United States
CATEGORIES:Christmas Events,Christmas Open Houses
ATTACH;FMTTYPE=image/jpeg:https://www.discoverholmescounty.com/wp-content/uploads/2025/09/christmas-village_2025.jpg
END:VEVENT
BEGIN:VEVENT
DTSTART;TZID=America/New_York:20251108T080000
DTEND;TZID=America/New_York:20251108T170000
DTSTAMP:20260425T104649
CREATED:20250805T170007Z
LAST-MODIFIED:20251109T182020Z
UID:10001638-1762588800-1762621200@www.discoverholmescounty.com
SUMMARY:Berlin - Christmas Open House
DESCRIPTION:Come enjoy 3 days of Christmas shopping discounts\, as Main Street Merchants transform their stores into a Christmas wonderland with gorgeous displays and sales! \nStore hours vary.
URL:https://www.discoverholmescounty.com/event/berlin-christmas-open-house/2025-11-08/
LOCATION:Berlin\, Ohio\, Berlin\, OH\, 44614\, United States
CATEGORIES:Christmas Open Houses
ATTACH;FMTTYPE=image/jpeg:https://www.discoverholmescounty.com/wp-content/uploads/2025/08/Berlin-xmas-open-house.jpeg
END:VEVENT
BEGIN:VEVENT
DTSTART;TZID=America/New_York:20251115T100000
DTEND;TZID=America/New_York:20251115T160000
DTSTAMP:20260425T104649
CREATED:20241106T163254Z
LAST-MODIFIED:20251117T151820Z
UID:10000884-1763200800-1763222400@www.discoverholmescounty.com
SUMMARY:Big Horse Day
DESCRIPTION:Get up close and personal with the many horses that call Hershberger's Farm and Bakery home. This special event for kids allows you to see and interact with some of the draft horses that help make our farm so unique.\n\nDuring this event\, Kids 12 and under will receive:FREE admission to the petting areaa FREE Cookie from the Bakery\n\nChildren can also sit on one of our draft horses during this unique event.\n\nStart your holiday celebrations with this great event!
URL:https://www.discoverholmescounty.com/event/big-horse-day/
LOCATION:Hershberger's Farm and Bakery\, 5452 State Route 557\, Millersburg\, OH\, 44654\, United States
CATEGORIES:Hershberger's Events
ATTACH;FMTTYPE=image/jpeg:https://www.discoverholmescounty.com/wp-content/uploads/2024/11/Big-Horse-Day-2025.jpg
END:VEVENT
BEGIN:VEVENT
DTSTART;TZID=America/New_York:20251128T173000
DTEND;TZID=America/New_York:20251128T200000
DTSTAMP:20260425T104649
CREATED:20250805T164545Z
LAST-MODIFIED:20251205T193337Z
UID:10001635-1764351000-1764360000@www.discoverholmescounty.com
SUMMARY:Berlin - Live Nativity Parade
DESCRIPTION:Enjoy a live Nativity Parade on the streets of Berlin! Be sure to come early! Event begins at 5:45 PM.
URL:https://www.discoverholmescounty.com/event/berlin-live-nativity-parade/
LOCATION:Berlin\, Ohio\, Berlin\, OH\, 44614\, United States
CATEGORIES:Christmas Events
ATTACH;FMTTYPE=image/jpeg:https://www.discoverholmescounty.com/wp-content/uploads/2023/11/live_20nativity_202_0.jpg
END:VEVENT
BEGIN:VEVENT
DTSTART;TZID=America/New_York:20251205T160000
DTEND;TZID=America/New_York:20251205T200000
DTSTAMP:20260425T104649
CREATED:20250913T182146Z
LAST-MODIFIED:20251208T164415Z
UID:10000434-1764950400-1764964800@www.discoverholmescounty.com
SUMMARY:Journey to Bethlehem
DESCRIPTION:Bring your family and get caught up in the excitement of long ago! The Journey to Bethlehem in Walnut Creek\, Ohio features seven vignettes throughout the Walnut Creek area. Each stop on the journey is a skit portraying an aspect of the Christmas Story. Beautiful luminaries line the route down Walnut Creek hill along with carolers singing throughout. \nEnd the journey at The Farm at Walnut Creek by enjoying a horse-drawn wagon ride to our live nativity in the barn and watch the story unfold about the precious baby born long ago. Be sure to take the wagon ride back to the houses for warm\, homemade cinnamon rolls\, sugar cookies\, hot chocolate\, and much more! \nThe first stop on your tour is the Census\nElite Flooring\n2433 State Route 39\nSugarcreek\, OH44681 \nPlease Start by 7:30 PM \nLIVE NATIVITY\nAt The Farm at Walnut Creek \nANIMAL FEEDING AREA\nFeed is provided to feed the animals \nWISEMEN\nYou can ride the wagon or follow the lighted path to visit the Wisemen\, who are in search of the newborn King \nCHUCKWAGON\nKettle corn and marshmallow roasting \nTour Amish Houses\nCinnamon rolls\, bars\, cookies\, hot chocolate\, coffee and chocolate-covered pretzels. \nRemember\, the real reason for the season this Christmas and always!
URL:https://www.discoverholmescounty.com/event/journey-to-bethlehem-2-2/
LOCATION:The Farm at Walnut Creek\, 4147 County Road 114 \, OH\, Sugarcreek\, OH\, 44681\, United States
CATEGORIES:Christmas Events,Farm at Walnut Creek Events
ATTACH;FMTTYPE=image/webp:https://www.discoverholmescounty.com/wp-content/uploads/2023/11/Live-Nativity2.webp
END:VEVENT
BEGIN:VEVENT
DTSTART;TZID=America/New_York:20251205T160000
DTEND;TZID=America/New_York:20251205T210000
DTSTAMP:20260425T104649
CREATED:20250805T170657Z
LAST-MODIFIED:20251208T164251Z
UID:10001639-1764950400-1764968400@www.discoverholmescounty.com
SUMMARY:Berlin - Shopping Under the Stars
DESCRIPTION:Enjoy an enchanted evening of shopping in Berlin\, Ohio as stores stay open late. There will be Christmas carols on Main Street\, refreshments\, and giveaways throughout the evening.  Meet your friends for a great evening out in Berlin. \nStore hours will vary.
URL:https://www.discoverholmescounty.com/event/berlin-shopping-under-the-stars/
LOCATION:Berlin\, Ohio\, Berlin\, OH\, 44614\, United States
CATEGORIES:Christmas Events
ATTACH;FMTTYPE=image/jpeg:https://www.discoverholmescounty.com/wp-content/uploads/2025/08/Berlin-Shopping-under-the-stars.jpeg
END:VEVENT
BEGIN:VEVENT
DTSTART;TZID=America/New_York:20251213T080000
DTEND;TZID=America/New_York:20251213T170000
DTSTAMP:20260425T104649
CREATED:20250805T154618Z
LAST-MODIFIED:20251208T164315Z
UID:10001625-1765612800-1765645200@www.discoverholmescounty.com
SUMMARY:Santa Comes to the Roundhouse
DESCRIPTION:Join us as Santa comes to the Roundhouse! \nCome out to the Age of Steam Roundhouse Museum and climb aboard a steam-powered train to transport you to our Roundhouse where you will meet Old St. Nick himself\, surrounded by our historic collection of steam locomotives! \nTake your picture with Santa\, enjoy a nice holiday craft\, and enjoy cookies and hot chocolate. All child guests will also be given a complimentary gift bag before leaving the Roundhouse!\nAdmission\nChildren 3-17: $15\nAdults: $25\nChildren under 3: Free \n1 ticket per child required.\nTickets must be purchased in advance online as we most likely will sell out. Museum Visitor Center opens at 8:30am on the day of the event. \nThis event does not include a tour of the Roundhouse.
URL:https://www.discoverholmescounty.com/event/santa-comes-to-the-roundhouse/
LOCATION:Age of Steam Roundhouse\, 213 Smokey Lane Road SW\, Sugarcreek\, OH\, 44681\, United States
CATEGORIES:Christmas Events,Featured Events
ATTACH;FMTTYPE=image/webp:https://www.discoverholmescounty.com/wp-content/uploads/2025/08/Age-of-Steam-Santa.webp
END:VEVENT
BEGIN:VEVENT
DTSTART;TZID=America/New_York:20251213T100000
DTEND;TZID=America/New_York:20251213T160000
DTSTAMP:20260425T104649
CREATED:20230228T155059Z
LAST-MODIFIED:20251117T151922Z
UID:10000039-1765620000-1765641600@www.discoverholmescounty.com
SUMMARY:Christmas Kid's Day
DESCRIPTION:The final special event for 2025 is a great time to visit the farm and bakery for the holidays. Events focus on children ages 12 and under with an emphasis on Donkeys and other animals found in the manger. There is something for everyone including candy tasting and much more. \nChristmas Kid'sDay is an annual tradition for families throughout northeast Ohio who come to see the animals\, do some shopping\, and sample great handmade foods.\n\nAdmission is FREE for children 12 years old and younger and each child will receive a Donkey cookie from the Bakery. There will also be FREE candy samples available throughout the day.
URL:https://www.discoverholmescounty.com/event/christmas-kids-day/
LOCATION:Hershberger's Farm and Bakery\, 5452 State Route 557\, Millersburg\, OH\, 44654\, United States
CATEGORIES:Featured Events,Hershberger's Events
ATTACH;FMTTYPE=image/jpeg:https://www.discoverholmescounty.com/wp-content/uploads/2023/02/Christmas-Kids-Day-2025.jpg
END:VEVENT
BEGIN:VEVENT
DTSTART;TZID=America/New_York:20251213T130000
DTEND;TZID=America/New_York:20251213T190000
DTSTAMP:20260425T104649
CREATED:20250913T182730Z
LAST-MODIFIED:20251208T164343Z
UID:10001648-1765630800-1765652400@www.discoverholmescounty.com
SUMMARY:Millersburg Chocolate Walk
DESCRIPTION:Collect locally-made chocolate treats at each participating location in downtown Millersburg while enjoying a day of sales\, special events and lots of fun!\n\nPresale tickets are available for $20 online and can be found using the link below. A limited number of tickets will be available to purchase at The Holmes County Chamber of Commerce (6 W Jackson St) on the day of the event.
URL:https://www.discoverholmescounty.com/event/millersburg-chocolate-walk/
LOCATION:Millersburg\, Ohio\, Millersburg\, OH\, 44654\, United States
CATEGORIES:Christmas Events,Featured Events
ATTACH;FMTTYPE=image/png:https://www.discoverholmescounty.com/wp-content/uploads/2025/09/Chocolate-Walk_0.png
END:VEVENT
END:VCALENDAR