BEGIN:VCALENDAR
VERSION:2.0
PRODID:-//Discover Holmes County Ohio - ECPv6.15.17.1//NONSGML v1.0//EN
CALSCALE:GREGORIAN
METHOD:PUBLISH
X-WR-CALNAME:Discover Holmes County Ohio
X-ORIGINAL-URL:https://www.discoverholmescounty.com
X-WR-CALDESC:Events for Discover Holmes County Ohio
REFRESH-INTERVAL;VALUE=DURATION:PT1H
X-Robots-Tag:noindex
X-PUBLISHED-TTL:PT1H
BEGIN:VTIMEZONE
TZID:America/New_York
BEGIN:DAYLIGHT
TZOFFSETFROM:-0500
TZOFFSETTO:-0400
TZNAME:EDT
DTSTART:20240310T070000
END:DAYLIGHT
BEGIN:STANDARD
TZOFFSETFROM:-0400
TZOFFSETTO:-0500
TZNAME:EST
DTSTART:20241103T060000
END:STANDARD
BEGIN:DAYLIGHT
TZOFFSETFROM:-0500
TZOFFSETTO:-0400
TZNAME:EDT
DTSTART:20250309T070000
END:DAYLIGHT
BEGIN:STANDARD
TZOFFSETFROM:-0400
TZOFFSETTO:-0500
TZNAME:EST
DTSTART:20251102T060000
END:STANDARD
BEGIN:DAYLIGHT
TZOFFSETFROM:-0500
TZOFFSETTO:-0400
TZNAME:EDT
DTSTART:20260308T070000
END:DAYLIGHT
BEGIN:STANDARD
TZOFFSETFROM:-0400
TZOFFSETTO:-0500
TZNAME:EST
DTSTART:20261101T060000
END:STANDARD
END:VTIMEZONE
BEGIN:VEVENT
DTSTART;TZID=America/New_York:20250927T083000
DTEND;TZID=America/New_York:20250927T180000
DTSTAMP:20260423T050746
CREATED:20250805T155615Z
LAST-MODIFIED:20251003T204931Z
UID:10001627-1758961800-1758996000@www.discoverholmescounty.com
SUMMARY:Farm at Walnut Creek Fall Festival
DESCRIPTION:Fall is in the air! The animals at The Farm love this time of year which includes cooler weather and the Fall Festival! \nThis is the first weekend of our annual Fall Festival. \nThere are many enjoyable adventures to keep you busy! Take your chance at our famous pumpkin slingshot\, let your children play all afternoon in the giant corn box\, or watch our Percheron Draft Horses as they press sorghum cane stalks to make molasses. How high can you climb on our straw castle? Take a lunch break by enjoying barbecue chicken\, noodles and beans\, desserts\, and more. And don’t forget to take a peaceful\, cool\, horse-drawn wagon ride through the Farm to feed animals such as giraffes\, zebras\, bison\, and much more!
URL:https://www.discoverholmescounty.com/event/fall-festival-3-2/2025-09-27/
LOCATION:The Farm at Walnut Creek\, 4147 County Road 114 \, OH\, Sugarcreek\, OH\, 44681\, United States
CATEGORIES:Fall Events,Farm at Walnut Creek Events
ATTACH;FMTTYPE=image/jpeg:https://www.discoverholmescounty.com/wp-content/uploads/2023/10/Fall-Festival-Banner.jpg
END:VEVENT
BEGIN:VEVENT
DTSTART;TZID=America/New_York:20250927T093000
DTEND;TZID=America/New_York:20250927T160000
DTSTAMP:20260423T050746
CREATED:20250805T153832Z
LAST-MODIFIED:20250805T154154Z
UID:10001259-1758965400-1758988800@www.discoverholmescounty.com
SUMMARY:Fall Steam Festival
DESCRIPTION:The Age of Steam Roundhouse Museum’s Fall Steam Festival: Trains\, Tractors & Traditions\, is an event to relive some of the most fondly remembered aspects of historic Americana; steam machines\, base ball\, and hotdogs. With the help of the Iron Horses of the Erie Railroad vintage base ball club\, guests to this event can watch base ball played as it was in the old days\, in empty fields\, with little more equipment than what you and your friends could sling over your shoulders. There will be a food vendor present to sell hotdogs and other fare to guests while they enjoy the ball games. \nApart from base ball\, various steam tractor operators will be present to showcase their machines\, including a shingle mill and other belt-driven implements. This year we will have a tinsmith and blacksmith on site from Historic Zoar Village crafting various objects.  All of this will be framed with the museum’s own steam locomotive which will give rides on the museum grounds to guests throughout the event. This special event will prove to be a fun and exciting experience for those who want to get a taste of the classic\, Norman Rockwell era of American leisure and life.
URL:https://www.discoverholmescounty.com/event/fall-steam-festival/2025-09-27/
LOCATION:Age of Steam Roundhouse\, 213 Smokey Lane Road SW\, Sugarcreek\, OH\, 44681\, United States
CATEGORIES:Fall Events
ATTACH;FMTTYPE=image/webp:https://www.discoverholmescounty.com/wp-content/uploads/2025/08/fsf24.webp
END:VEVENT
BEGIN:VEVENT
DTSTART;TZID=America/New_York:20250927T220000
DTEND;TZID=America/New_York:20250927T220000
DTSTAMP:20260423T050746
CREATED:20250913T172126Z
LAST-MODIFIED:20250913T172419Z
UID:10001643-1759010400-1759010400@www.discoverholmescounty.com
SUMMARY:Ohio Swiss Festival
DESCRIPTION:Every fall since 1953\, downtown Sugarcreek\, Ohio transforms into a lively Swiss village\, celebrating the rich cultural heritage of Switzerland. From wine and cheese samplings to races\, contests\, and parades\, the Swiss Festival offers something for everyone. Sponsored by the Ohio Swiss Cheese Association\, Sugarcreek Business Association\, and the Village of Sugarcreek\, this year's festival takes place September 25th - 27th. There’s music\, food\, and entertainment each day of the festival\, and parking can be found invarious locations downtown \nThis great historic festival is hosted just across the Holmes County border in Sugarcreek\, Ohiop (Tuscarawas County).
URL:https://www.discoverholmescounty.com/event/ohio-swiss-festival/2025-09-27/
LOCATION:Sugarcreek\, Ohio\, Sugarcreek\, OH\, 44681\, United States
CATEGORIES:Fall Events,History
ATTACH;FMTTYPE=image/jpeg:https://www.discoverholmescounty.com/wp-content/uploads/2025/09/Swiss-Festival-Featured.jpg
END:VEVENT
END:VCALENDAR