BEGIN:VCALENDAR
VERSION:2.0
PRODID:-//Discover Holmes County Ohio - ECPv6.15.17.1//NONSGML v1.0//EN
CALSCALE:GREGORIAN
METHOD:PUBLISH
X-ORIGINAL-URL:https://www.discoverholmescounty.com
X-WR-CALDESC:Events for Discover Holmes County Ohio
REFRESH-INTERVAL;VALUE=DURATION:PT1H
X-Robots-Tag:noindex
X-PUBLISHED-TTL:PT1H
BEGIN:VTIMEZONE
TZID:America/New_York
BEGIN:DAYLIGHT
TZOFFSETFROM:-0500
TZOFFSETTO:-0400
TZNAME:EDT
DTSTART:20240310T070000
END:DAYLIGHT
BEGIN:STANDARD
TZOFFSETFROM:-0400
TZOFFSETTO:-0500
TZNAME:EST
DTSTART:20241103T060000
END:STANDARD
BEGIN:DAYLIGHT
TZOFFSETFROM:-0500
TZOFFSETTO:-0400
TZNAME:EDT
DTSTART:20250309T070000
END:DAYLIGHT
BEGIN:STANDARD
TZOFFSETFROM:-0400
TZOFFSETTO:-0500
TZNAME:EST
DTSTART:20251102T060000
END:STANDARD
BEGIN:DAYLIGHT
TZOFFSETFROM:-0500
TZOFFSETTO:-0400
TZNAME:EDT
DTSTART:20260308T070000
END:DAYLIGHT
BEGIN:STANDARD
TZOFFSETFROM:-0400
TZOFFSETTO:-0500
TZNAME:EST
DTSTART:20261101T060000
END:STANDARD
END:VTIMEZONE
BEGIN:VEVENT
DTSTART;TZID=America/New_York:20251011T083000
DTEND;TZID=America/New_York:20251011T180000
DTSTAMP:20260422T130102
CREATED:20250805T161707Z
LAST-MODIFIED:20250805T161737Z
UID:10000878-1760171400-1760205600@www.discoverholmescounty.com
SUMMARY:Farm at Walnut Creek Fall Festival
DESCRIPTION:Fall is in the air! The animals at The Farm love this time of year which includes cooler weather and the Fall Festival! \nThis is the third weekend of our annual Fall Festival. \nThere are many enjoyable adventures to keep you busy! Take your chance at our famous pumpkin slingshot\, let your children play all afternoon in the giant corn box\, or watch our Percheron Draft Horses as they press sorghum cane stalks to make molasses. How high can you climb on our straw castle? Take a lunch break by enjoying barbecue chicken\, noodles and beans\, desserts\, and more. And don’t forget to take a peaceful\, cool\, horse-drawn wagon ride through the Farm to feed animals such as giraffes\, zebras\, bison\, and much more!
URL:https://www.discoverholmescounty.com/event/fall-festival-5/2025-10-11/
LOCATION:The Farm at Walnut Creek\, 4147 County Road 114 \, OH\, Sugarcreek\, OH\, 44681\, United States
CATEGORIES:Farm at Walnut Creek Events
ATTACH;FMTTYPE=image/jpeg:https://www.discoverholmescounty.com/wp-content/uploads/2023/10/Fall-Festival-Banner.jpg
END:VEVENT
END:VCALENDAR