BEGIN:VCALENDAR
VERSION:2.0
PRODID:-//Discover Holmes County Ohio - ECPv6.15.17.1//NONSGML v1.0//EN
CALSCALE:GREGORIAN
METHOD:PUBLISH
X-ORIGINAL-URL:https://www.discoverholmescounty.com
X-WR-CALDESC:Events for Discover Holmes County Ohio
REFRESH-INTERVAL;VALUE=DURATION:PT1H
X-Robots-Tag:noindex
X-PUBLISHED-TTL:PT1H
BEGIN:VTIMEZONE
TZID:America/New_York
BEGIN:DAYLIGHT
TZOFFSETFROM:-0500
TZOFFSETTO:-0400
TZNAME:EDT
DTSTART:20240310T070000
END:DAYLIGHT
BEGIN:STANDARD
TZOFFSETFROM:-0400
TZOFFSETTO:-0500
TZNAME:EST
DTSTART:20241103T060000
END:STANDARD
BEGIN:DAYLIGHT
TZOFFSETFROM:-0500
TZOFFSETTO:-0400
TZNAME:EDT
DTSTART:20250309T070000
END:DAYLIGHT
BEGIN:STANDARD
TZOFFSETFROM:-0400
TZOFFSETTO:-0500
TZNAME:EST
DTSTART:20251102T060000
END:STANDARD
BEGIN:DAYLIGHT
TZOFFSETFROM:-0500
TZOFFSETTO:-0400
TZNAME:EDT
DTSTART:20260308T070000
END:DAYLIGHT
BEGIN:STANDARD
TZOFFSETFROM:-0400
TZOFFSETTO:-0500
TZNAME:EST
DTSTART:20261101T060000
END:STANDARD
END:VTIMEZONE
BEGIN:VEVENT
DTSTART;TZID=America/New_York:20251003T000000
DTEND;TZID=America/New_York:20251003T235959
DTSTAMP:20260422T113211
CREATED:20250913T173359Z
LAST-MODIFIED:20251017T144700Z
UID:10000426-1759449600-1759535999@www.discoverholmescounty.com
SUMMARY:Charm Days
DESCRIPTION:Experience a unique community event in beautiful Charm\, Ohio that features food\, fun events\, vendors\, and sales throughout the community. \nFriday features the Wooly Worm Derby along with other great events. \nSaturday is highlighted by an auction of great locally-made items including pies and more. \nOther events include a volleyball tournament\, horse events\, food and more. \nCharm Days began a little over 30 years ago as a way for local businesses to show their appreciation to their customers. It was a little festival that has grown into a two day event which is held the second weekend of every October\, on Friday and Saturday. Coordinated by volunteers\, and located in downtown Charm\, Ohio\, Charm Days has blossomed into an affair that benefits the Charm Community Share and Care Fund\, an organization that helps families in need.
URL:https://www.discoverholmescounty.com/event/charm-days-2/
LOCATION:Charm\, Ohio\, Charm\, OH\, United States
CATEGORIES:Auctions,Fall Events
ATTACH;FMTTYPE=image/jpeg:https://www.discoverholmescounty.com/wp-content/uploads/2023/10/Charm-Days-2023.jpg
END:VEVENT
BEGIN:VEVENT
DTSTART;TZID=America/New_York:20251003T083000
DTEND;TZID=America/New_York:20251003T180000
DTSTAMP:20260422T113211
CREATED:20250805T160013Z
LAST-MODIFIED:20251017T144804Z
UID:10000876-1759480200-1759514400@www.discoverholmescounty.com
SUMMARY:Farm at Walnut Creek Fall Festival
DESCRIPTION:Fall is in the air! The animals at The Farm love this time of year which includes cooler weather and the Fall Festival! \nThis is the 2nd weekend of our annual Fall Festival. \nThere are many enjoyable adventures to keep you busy! Take your chance at our famous pumpkin slingshot\, let your children play all afternoon in the giant corn box\, or watch our Percheron Draft Horses as they press sorghum cane stalks to make molasses. How high can you climb on our straw castle? Take a lunch break by enjoying barbecue chicken\, noodles and beans\, desserts\, and more. And don’t forget to take a peaceful\, cool\, horse-drawn wagon ride through the Farm to feed animals such as giraffes\, zebras\, bison\, and much more!
URL:https://www.discoverholmescounty.com/event/fall-festival-4-2/2025-10-03/
LOCATION:The Farm at Walnut Creek\, 4147 County Road 114 \, OH\, Sugarcreek\, OH\, 44681\, United States
CATEGORIES:Fall Events,Farm at Walnut Creek Events
ATTACH;FMTTYPE=image/jpeg:https://www.discoverholmescounty.com/wp-content/uploads/2023/10/Fall-Festival-Banner.jpg
END:VEVENT
BEGIN:VEVENT
DTSTART;TZID=America/New_York:20251003T160000
DTEND;TZID=America/New_York:20251003T210000
DTSTAMP:20260422T113211
CREATED:20240509T181641Z
LAST-MODIFIED:20251017T144648Z
UID:10000870-1759507200-1759525200@www.discoverholmescounty.com
SUMMARY:Fall Late Nights
DESCRIPTION:Visit Hershberger's Farm and Bakery for this first of 2 special evening events. Kick off the fall harvest season with a wagon ride to the pumpkin patch where you can select your perfect pumpkin. The petting area\, bakery\, and farm store will be open until 9 pm and there will be other special offerings throughout the evening.
URL:https://www.discoverholmescounty.com/event/hershbergers-fall-late-nights-2025/
LOCATION:Hershberger's Farm and Bakery\, 5452 State Route 557\, Millersburg\, OH\, 44654\, United States
CATEGORIES:Fall Events,Hershberger's Events
ATTACH;FMTTYPE=image/jpeg:https://www.discoverholmescounty.com/wp-content/uploads/2024/05/2024-Fall-Late-Night-1.jpg
END:VEVENT
END:VCALENDAR